BEGIN:VCALENDAR
VERSION:2.0
PRODID:-//The Book Shepherd - ECPv6.15.20//NONSGML v1.0//EN
CALSCALE:GREGORIAN
METHOD:PUBLISH
X-WR-CALNAME:The Book Shepherd
X-ORIGINAL-URL:https://thebookshepherd.com
X-WR-CALDESC:Events for The Book Shepherd
REFRESH-INTERVAL;VALUE=DURATION:PT1H
X-Robots-Tag:noindex
X-PUBLISHED-TTL:PT1H
BEGIN:VTIMEZONE
TZID:UTC
BEGIN:STANDARD
TZOFFSETFROM:+0000
TZOFFSETTO:+0000
TZNAME:UTC
DTSTART:20250101T000000
END:STANDARD
END:VTIMEZONE
BEGIN:VEVENT
DTSTART;TZID=UTC:20260322T090000
DTEND;TZID=UTC:20260322T170000
DTSTAMP:20260421T021336
CREATED:20260310T151151Z
LAST-MODIFIED:20260310T151151Z
UID:16122-1774170000-1774198800@thebookshepherd.com
SUMMARY:Barnes&Noble Book signing Denver west Village\, Lakewood
DESCRIPTION:
URL:https://thebookshepherd.com/event/barnesnoble-book-signing-denver-west-village-lakewood/
LOCATION:Denver west Village\, Lakewood\, Denver\, Colorado\, United States
END:VEVENT
BEGIN:VEVENT
DTSTART;TZID=UTC:20260320T150000
DTEND;TZID=UTC:20260320T160000
DTSTAMP:20260421T021336
CREATED:20260310T151400Z
LAST-MODIFIED:20260310T151425Z
UID:16124-1774018800-1774022400@thebookshepherd.com
SUMMARY:Ask Judith anything about Publishing and Book Marketing
DESCRIPTION:
URL:https://thebookshepherd.com/event/ask-judith-anything-about-publishing-and-book-marketing/
END:VEVENT
BEGIN:VEVENT
DTSTART;TZID=UTC:20260215T080000
DTEND;TZID=UTC:20260222T170000
DTSTAMP:20260421T021336
CREATED:20260205T143227Z
LAST-MODIFIED:20260205T143244Z
UID:16079-1771142400-1771779600@thebookshepherd.com
SUMMARY:Publishing at Sea workshops
DESCRIPTION:
URL:https://thebookshepherd.com/event/publishing-at-sea-workshops/
END:VEVENT
BEGIN:VEVENT
DTSTART;TZID=UTC:20260207T090000
DTEND;TZID=UTC:20260207T163000
DTSTAMP:20260421T021336
CREATED:20260205T143127Z
LAST-MODIFIED:20260205T143127Z
UID:16078-1770454800-1770481800@thebookshepherd.com
SUMMARY:Barnes & Noble Southlands\, Aurora Judith Briles and Joseph Caldara
DESCRIPTION:
URL:https://thebookshepherd.com/event/barnes-noble-southlands-aurora-judith-briles-and-joseph-caldara/
END:VEVENT
BEGIN:VEVENT
DTSTART;TZID=UTC:20260206T140000
DTEND;TZID=UTC:20260206T160000
DTSTAMP:20260421T021336
CREATED:20260205T143006Z
LAST-MODIFIED:20260205T143006Z
UID:16077-1770386400-1770393600@thebookshepherd.com
SUMMARY:AuthorU Program … Creating Your Press Releases Forward
DESCRIPTION:If you don’t tell the media your story with a press release\, who will? This is a live webinar. It will be recorded. The savvy author will be there in person to get your questions answered. Register here https://www.authoru.org/event-details-registration/press-releases-do-authors-need-them-yes-they-do
URL:https://thebookshepherd.com/event/authoru-program-creating-your-press-releases-forward/
END:VEVENT
BEGIN:VEVENT
DTSTART;VALUE=DATE:20260129
DTEND;VALUE=DATE:20260130
DTSTAMP:20260421T021336
CREATED:20260121T144913Z
LAST-MODIFIED:20260121T144913Z
UID:16048-1769644800-1769731199@thebookshepherd.com
SUMMARY:Podcast … Support for Unpublished Authors … Judith Briles and Mara Purl
DESCRIPTION:
URL:https://thebookshepherd.com/event/podcast-support-for-unpublished-authors-judith-briles-and-mara-purl/
END:VEVENT
BEGIN:VEVENT
DTSTART;TZID=UTC:20260128T163000
DTEND;TZID=UTC:20260128T170000
DTSTAMP:20260421T021336
CREATED:20260121T144652Z
LAST-MODIFIED:20260121T144652Z
UID:16045-1769617800-1769619600@thebookshepherd.com
SUMMARY:Create an Amazon Bestseller Campaign for Your eBook Online Course in 4 weeks!
DESCRIPTION:“Judith’s Amazon BestSeller program works!! I hit #1 in at least 9 categories before 11 AM on launch day. Do yourself a favor – take Judith’s class and FOLLOW HER GUIDANCE! You’ll be an Amazon BestSeller too!” \n– Suzanne Asaff Blankenship\n\nAuthor of How To Take Care of Old People Without Losing Your Marbles\nAmazon Ebook #1 BestSeller\n\n\n\n\n\nCreate an Amazon Bestseller Campaign for Your eBook Online Course in 4 weeks! \n \nSign up for our next sessions for  April 1\, 8\, 15\, 22 \nThere are 23 steps in your journey … a journey where you could pay someone to travel and implement for you … or one where you can roll up your sleeves and learn how to create\, implement\, and execute. As in DIY.  \nThe Create an Amazon Bestseller Campaign for Your eBook Online course is the later. I will take you through each step during the four weeks. When you complete #17\, you are ready to execute. \nMy goal is for you to have all components for your campaign DONE before your implementation/execution day. All social media tease pushouts done and scheduled before the big day starts. \nRequirements; \n\n Two hours of your time online each week via Zoom with Judith Briles. Late Wednesday afternoon will be our start time.\n\n Social media presence. Thousands would be good but not crucial. You will learn tips and tricks during each session that will have new adds every week.\n An “I want to be #1 and I can do this attitude” and commitment to do the work during each session and post-work each work.\n A computer. A free account on either Canva and BookBrush.\n\nDates: Wednesdays\,  April 1\, 8\, 15\, 22 \nTimes: 4.00 P.M. to 5.30 P.M. MT  \nCost:  $299 \nRegister: \n \nAmazon Class Alumni $150
URL:https://thebookshepherd.com/event/create-an-amazon-bestseller-campaign-for-your-ebook-online-course-in-4-weeks/
END:VEVENT
BEGIN:VEVENT
DTSTART;VALUE=DATE:20260122
DTEND;VALUE=DATE:20260123
DTSTAMP:20260421T021336
CREATED:20260121T144812Z
LAST-MODIFIED:20260121T144845Z
UID:16047-1769040000-1769126399@thebookshepherd.com
SUMMARY:Podcast … Instagram Power Strategies for Authors … Jules Marie
DESCRIPTION:
URL:https://thebookshepherd.com/event/podcast-instagram-power-strategies-for-authors-jules-marie/
END:VEVENT
BEGIN:VEVENT
DTSTART;TZID=UTC:20260121T163000
DTEND;TZID=UTC:20260121T170000
DTSTAMP:20260421T021336
CREATED:20260121T144503Z
LAST-MODIFIED:20260121T144608Z
UID:16044-1769013000-1769014800@thebookshepherd.com
SUMMARY:Create an Amazon Bestseller Campaign for Your eBook Online Course in 4 weeks!
DESCRIPTION:“Judith’s Amazon BestSeller program works!! I hit #1 in at least 9 categories before 11 AM on launch day. Do yourself a favor – take Judith’s class and FOLLOW HER GUIDANCE! You’ll be an Amazon BestSeller too!” \n– Suzanne Asaff Blankenship\n\nAuthor of How To Take Care of Old People Without Losing Your Marbles\nAmazon Ebook #1 BestSeller\n\n\n\n\n\nCreate an Amazon Bestseller Campaign for Your eBook Online Course in 4 weeks! \n \nSign up for our next sessions for  April 1\, 8\, 15\, 22 \nThere are 23 steps in your journey … a journey where you could pay someone to travel and implement for you … or one where you can roll up your sleeves and learn how to create\, implement\, and execute. As in DIY.  \nThe Create an Amazon Bestseller Campaign for Your eBook Online course is the later. I will take you through each step during the four weeks. When you complete #17\, you are ready to execute. \nMy goal is for you to have all components for your campaign DONE before your implementation/execution day. All social media tease pushouts done and scheduled before the big day starts. \nRequirements; \n\n Two hours of your time online each week via Zoom with Judith Briles. Late Wednesday afternoon will be our start time.\n\n Social media presence. Thousands would be good but not crucial. You will learn tips and tricks during each session that will have new adds every week.\n An “I want to be #1 and I can do this attitude” and commitment to do the work during each session and post-work each work.\n A computer. A free account on either Canva and BookBrush.\n\nDates: Wednesdays\,  April 1\, 8\, 15\, 22 \nTimes: 4.00 P.M. to 5.30 P.M. MT  \nCost:  $299 \nRegister: \n \nAmazon Class Alumni $150
URL:https://thebookshepherd.com/event/16044/
END:VEVENT
END:VCALENDAR