BEGIN:VCALENDAR
VERSION:2.0
PRODID:-//The Book Shepherd - ECPv6.15.20//NONSGML v1.0//EN
CALSCALE:GREGORIAN
METHOD:PUBLISH
X-WR-CALNAME:The Book Shepherd
X-ORIGINAL-URL:https://thebookshepherd.com
X-WR-CALDESC:Events for The Book Shepherd
REFRESH-INTERVAL;VALUE=DURATION:PT1H
X-Robots-Tag:noindex
X-PUBLISHED-TTL:PT1H
BEGIN:VTIMEZONE
TZID:America/Denver
BEGIN:DAYLIGHT
TZOFFSETFROM:-0700
TZOFFSETTO:-0600
TZNAME:MDT
DTSTART:20250309T090000
END:DAYLIGHT
BEGIN:STANDARD
TZOFFSETFROM:-0600
TZOFFSETTO:-0700
TZNAME:MST
DTSTART:20251102T080000
END:STANDARD
BEGIN:DAYLIGHT
TZOFFSETFROM:-0700
TZOFFSETTO:-0600
TZNAME:MDT
DTSTART:20260308T090000
END:DAYLIGHT
BEGIN:STANDARD
TZOFFSETFROM:-0600
TZOFFSETTO:-0700
TZNAME:MST
DTSTART:20261101T080000
END:STANDARD
BEGIN:DAYLIGHT
TZOFFSETFROM:-0700
TZOFFSETTO:-0600
TZNAME:MDT
DTSTART:20270314T090000
END:DAYLIGHT
BEGIN:STANDARD
TZOFFSETFROM:-0600
TZOFFSETTO:-0700
TZNAME:MST
DTSTART:20271107T080000
END:STANDARD
END:VTIMEZONE
BEGIN:VEVENT
DTSTART;TZID=America/Denver:20260515T150000
DTEND;TZID=America/Denver:20260515T160000
DTSTAMP:20260421T044929
CREATED:20260420T142932Z
LAST-MODIFIED:20260420T142932Z
UID:16204-1778857200-1778860800@thebookshepherd.com
SUMMARY:Ask Judith
DESCRIPTION:    Ask Judith ANYTHING\nabout\nBook Publishing and Book Marketing \nThe Book Shepherd is YOURS for 60 Minutes! \n \nThe Book Shepherd\, Judith Briles is YOURS for 60 minutes on Friday\, May 15 to ask any question you have about book publishing\, book marketing\, writing a book … or just getting a “little juice” to start your engines after the Holiday rush from the past few weeks.  \nPost your questions as soon as you come on … Judith will come to you LIVE and bring you on the mic to respond to YOU and possibly ask additional questions.  \nGrab your favorite beverage; just listen in … or ASK\, ASK\, ASK! It’s time to re-juice and rekindle your author energy! \nJoin Zoom Meeting – click on it or copy/paste  \nhttps://zoom.us/j/95000476418?pwd=SH5vWqz0SkvVIZIgnC95lHCmCAi2km.1\nPassword: authors \nAdd to Your Calendar: Friday\, May 15 at 3 MT (2 PT\, 5 CT\, 5 ET)\nAnd yes\, it will be recorded to send out to those who couldn’t be there in person.
URL:https://thebookshepherd.com/event/ask-judith/
END:VEVENT
END:VCALENDAR